BEGIN:VCALENDAR
VERSION:2.0
PRODID:-//ChamberMaster//Event Calendar 2.0//EN
METHOD:PUBLISH
X-PUBLISHED-TTL:P3D
REFRESH-INTERVAL:P3D
CALSCALE:GREGORIAN
BEGIN:VEVENT
DTSTART:20220623T000000Z
DTEND:20220623T020000Z
X-MICROSOFT-CDO-ALLDAYEVENT:FALSE
SUMMARY:After 5 Mixer with Huntington Beach Chamber
DESCRIPTION:Who's ready to make some connections?! We're doing a joint mixer with the Huntington Beach Chamber of Commerce. Come join us to meet and network with new people.
X-ALT-DESC;FMTTYPE=text/html:<span style="color:#0000CD\;"><span style="font-size:18px\;"><span style="font-family:tahoma\;"><strong>Who&#39\;s ready to make some connections?! We&#39\;re doing a joint mixer with the Huntington Beach Chamber of Commerce. Come join us to meet and network with new people.</strong></span></span></span>
LOCATION:Stonefire Grill 18727 Brookhurst St. Fountain Valley\, CA 92708
UID:e.2030.5594
SEQUENCE:3
DTSTAMP:20260420T185604Z
URL:http://business.fvchamber.com/events/details/after-5-mixer-with-huntington-beach-chamber-5594
END:VEVENT

END:VCALENDAR
