BEGIN:VCALENDAR
VERSION:2.0
PRODID:-//ChamberMaster//Event Calendar 2.0//EN
METHOD:PUBLISH
X-PUBLISHED-TTL:P3D
REFRESH-INTERVAL:P3D
CALSCALE:GREGORIAN
BEGIN:VEVENT
DTSTART:20160721T003000Z
DTEND:20160721T023000Z
X-MICROSOFT-CDO-ALLDAYEVENT:FALSE
SUMMARY:A Rosy Evening For Your Pet
DESCRIPTION:A Rosy Evening with My Pet\n\nSpecial Event for pets provided by Rosy Dental
X-ALT-DESC;FMTTYPE=text/html:A Rosy Evening with My Pet<br />\nSpecial Event for pets provided by Rosy Dental
LOCATION:16575 Brookhurst St.\, #A Fountain Valley\, CA 92708
UID:e.2030.2813
SEQUENCE:3
DTSTAMP:20260425T111820Z
URL:http://business.fvchamber.com/events/details/a-rosy-evening-for-your-pet-07-20-2016-2813
END:VEVENT

END:VCALENDAR
