BEGIN:VCALENDAR
VERSION:2.0
PRODID:-//ChamberMaster//Event Calendar 2.0//EN
METHOD:PUBLISH
X-PUBLISHED-TTL:P3D
REFRESH-INTERVAL:P3D
CALSCALE:GREGORIAN
BEGIN:VEVENT
DTSTART:20190515T180000Z
DTEND:20190515T190000Z
X-MICROSOFT-CDO-ALLDAYEVENT:FALSE
SUMMARY:A Better Solution In Home Care Ribbon Cutting
DESCRIPTION:Join the Fountain Valley Chamber of Commerce as we welcome this business to our amazing city with their very own Ribbon Cutting!
X-ALT-DESC;FMTTYPE=text/html:<span style="font-size:16px\;"><span style="font-family:verdana\;"><strong style="color: rgb(51\, 51\, 51)\; font-family: verdana\; font-size: 16px\; background-color: rgb(255\, 255\, 255)\;"><span style="color: rgb(0\, 128\, 0)\;">Join the Fountain Valley Chamber of Commerce as we welcome this business to our amazing city with their very own Ribbon Cutting!</span></strong></span></span>
LOCATION:10990 Warner Ave. Suite G Fountain Valley\, CA 92708
UID:e.2030.5111
SEQUENCE:3
DTSTAMP:20260423T070043Z
URL:http://business.fvchamber.com/events/details/a-better-solution-in-home-care-ribbon-cutting-5111
END:VEVENT

END:VCALENDAR
