BEGIN:VCALENDAR
VERSION:2.0
PRODID:-//ChamberMaster//Event Calendar 2.0//EN
METHOD:PUBLISH
X-PUBLISHED-TTL:P3D
REFRESH-INTERVAL:P3D
CALSCALE:GREGORIAN
BEGIN:VEVENT
DTSTART;VALUE=DATE:20191217
DTEND;VALUE=DATE:20191224
TRANSP:TRANSPARENT
X-MICROSOFT-CDO-ALLDAYEVENT:TRUE
SUMMARY:57th Annual Cruise of Lights®
DESCRIPTION:Cruise of Lights  \n\nDecember 17-23\, 2019 \n\nOur 57th Year\n\n\n\n\n\nVoted\, "Top 10\," By Coastal Living Magazine.\n\nVoted\, "10 Best Christmas Lights Destination in the U.S.\," by AOL.\n\n"Worth The Drive\," according to AAA Southern California.\n\n\n\n\n\nThe Huntington Harbour Philharmonic Cruise of Lights  offers narrated boat tours through the waterways of Huntington Harbour in Huntington Beach\, California. In December both locals and visitors share the beauty of thousands of lights and animated displays on brightly decorated homes\, docks\, decks and boats. This year's decorating theme is "Rock & Roll Fantasy"!
X-ALT-DESC;FMTTYPE=text/html:Cruise&nbsp\;of Lights&reg\;&nbsp\;<br />\nDecember 17-23\, 2019&nbsp\;<br />\nOur 57th Year<br />\n<br />\n<br />\nVoted\,&nbsp\;<strong>&quot\;Top 10\,</strong>&quot\; By Coastal Living Magazine.<br />\nVoted\, &quot\;<strong>10 Best Christmas Lights Destination in the U.S.\,</strong>&quot\; by AOL.<br />\n&quot\;<strong>Worth The Drive\,</strong>&quot\; according to AAA Southern California.<br />\n<br />\n<br />\n<span style="color:rgb(48\, 48\, 48)\; font-family:quattrocento sans\,sans-serif\; font-size:16px">The Huntington Harbour Philharmonic Cruise of Lights&reg\; offers narrated boat tours through the waterways of Huntington Harbour in Huntington Beach\, California. In December both locals and visitors share the beauty of thousands of lights and animated displays on brightly decorated homes\, docks\, decks and boats.&nbsp\;This year&#39\;s decorating theme is &quot\;Rock &amp\; Roll Fantasy&quot\;!</span>
LOCATION:Huntington Harbour--free parking and shuttle busses leave from the Huntington Harbour Mall. 16889 Algonquin St\, Huntington Beach\, CA.
UID:e.2030.5278
SEQUENCE:3
DTSTAMP:20260424T091241Z
URL:http://business.fvchamber.com/events/details/57th-annual-cruise-of-lights-5278
END:VEVENT

END:VCALENDAR
