BEGIN:VCALENDAR
VERSION:2.0
PRODID:-//ChamberMaster//Event Calendar 2.0//EN
METHOD:PUBLISH
X-PUBLISHED-TTL:P3D
REFRESH-INTERVAL:P3D
CALSCALE:GREGORIAN
BEGIN:VEVENT
DTSTART:20160330T170000Z
DTEND:20160330T180000Z
X-MICROSOFT-CDO-ALLDAYEVENT:FALSE
SUMMARY:50th Anniversary Meeting
DESCRIPTION:50th Anniversary Committee Meeting
X-ALT-DESC;FMTTYPE=text/html:<span style="font-size:16px\;"><strong>50th Anniversary Committee Meeting</strong></span>
LOCATION:Fountain Valley Chamber Office 10055 Slater Ave.\, #250 Fountain Valley\, CA 92708
UID:e.2030.2802
SEQUENCE:3
DTSTAMP:20260425T172526Z
URL:http://business.fvchamber.com/events/details/50th-anniversary-meeting-03-30-2016-2802
END:VEVENT

END:VCALENDAR
