BEGIN:VCALENDAR
VERSION:2.0
PRODID:-//ChamberMaster//Event Calendar 2.0//EN
METHOD:PUBLISH
X-PUBLISHED-TTL:P3D
REFRESH-INTERVAL:P3D
CALSCALE:GREGORIAN
BEGIN:VEVENT
DTSTART:20160426T183000Z
DTEND:20160426T203000Z
X-MICROSOFT-CDO-ALLDAYEVENT:FALSE
SUMMARY:50th Anniversary Luncheon
DESCRIPTION:Fountain Valley Chamber\n\n50th Anniversary Luncheon
X-ALT-DESC;FMTTYPE=text/html:<span style="font-size:16px\;"><strong>Fountain Valley Chamber<br />\n50th Anniversary Luncheon</strong></span>
LOCATION:Mile Square Golf Course Banquet Room 10401 Warner Avenue Fountain Valley\, CA 92708
UID:e.2030.2317
SEQUENCE:3
DTSTAMP:20260425T155456Z
URL:http://business.fvchamber.com/events/details/50th-anniversary-luncheon-04-26-2016-2317
END:VEVENT

END:VCALENDAR
