BEGIN:VCALENDAR
VERSION:2.0
PRODID:-//ChamberMaster//Event Calendar 2.0//EN
METHOD:PUBLISH
X-PUBLISHED-TTL:P3D
REFRESH-INTERVAL:P3D
CALSCALE:GREGORIAN
BEGIN:VEVENT
DTSTART:20220113T180000Z
DTEND:20220113T200000Z
X-MICROSOFT-CDO-ALLDAYEVENT:FALSE
SUMMARY:3 Insider Secrets to Brands that Sell: Create Raving Fans Who Buy Everything
DESCRIPTION:What do brands like Apple\, Airstream and Starbucks all have in common? They are iconic brands killing it in business.\n\n\n\nIn this interactive session\, Laura will share what these\, and many other big brands\, are doing right and how to translate these lessons into your small business. You'll learn exactly what you need to do in order to stand out\, make your mark\, and create a community of raving fans and customers.\n\n\n\n45 minute breakout or virtual masterclass session.
X-ALT-DESC;FMTTYPE=text/html:<span style="color: rgb(43\, 55\, 77)\; font-family: ModernSans\, Arial\, Helvetica\, sans-serif\; font-size: 16px\; background-color: rgb(255\, 255\, 255)\;">What do brands like Apple\, Airstream and Starbucks all have in common? They are iconic brands killing it in business.</span><br style="box-sizing: border-box\; color: rgb(43\, 55\, 77)\; font-family: ModernSans\, Arial\, Helvetica\, sans-serif\; font-size: 16px\; background-color: rgb(255\, 255\, 255)\;" />\n<br style="box-sizing: border-box\; color: rgb(43\, 55\, 77)\; font-family: ModernSans\, Arial\, Helvetica\, sans-serif\; font-size: 16px\; background-color: rgb(255\, 255\, 255)\;" />\n<span style="color: rgb(43\, 55\, 77)\; font-family: ModernSans\, Arial\, Helvetica\, sans-serif\; font-size: 16px\; background-color: rgb(255\, 255\, 255)\;">In this interactive session\, Laura will share what these\, and many other big brands\, are doing right and how to translate these lessons into your small business. You&#39\;ll learn exactly what you need to do in order to stand out\, make your mark\, and create a community of raving fans and customers.</span><br style="box-sizing: border-box\; color: rgb(43\, 55\, 77)\; font-family: ModernSans\, Arial\, Helvetica\, sans-serif\; font-size: 16px\; background-color: rgb(255\, 255\, 255)\;" />\n<br style="box-sizing: border-box\; color: rgb(43\, 55\, 77)\; font-family: ModernSans\, Arial\, Helvetica\, sans-serif\; font-size: 16px\; background-color: rgb(255\, 255\, 255)\;" />\n<span style="color: rgb(43\, 55\, 77)\; font-family: ModernSans\, Arial\, Helvetica\, sans-serif\; font-size: 16px\; background-color: rgb(255\, 255\, 255)\;">45 minute breakout or virtual masterclass session.</span>
LOCATION:Online Webinar
UID:e.2030.5414
SEQUENCE:3
DTSTAMP:20260421T014738Z
URL:http://business.fvchamber.com/events/details/3-insider-secrets-to-brands-that-sell-create-raving-fans-who-buy-everything-5414
END:VEVENT

END:VCALENDAR
