BEGIN:VCALENDAR
VERSION:2.0
PRODID:-//ChamberMaster//Event Calendar 2.0//EN
METHOD:PUBLISH
X-PUBLISHED-TTL:P3D
REFRESH-INTERVAL:P3D
CALSCALE:GREGORIAN
BEGIN:VEVENT
DTSTART:20150806T183000Z
DTEND:20150806T200000Z
X-MICROSOFT-CDO-ALLDAYEVENT:FALSE
SUMMARY:2nd Annual OC Chef Off
DESCRIPTION:Please join us for a fundraiser hosted by Palm Island Senior Apartment Homes in Fountain Valley benefiting Alzheimer's Family Services Center. Four local executive chefs will face off and prepare "Texas-Style BBQ" sliders and sides. Come join the fun and experience the festive foods\, beverages\, vendors\, and many raffle prize opportunities!  Attendees will be able to vote for their favorite dishes from our four featured chefs.
X-ALT-DESC;FMTTYPE=text/html:Please join us for a fundraiser hosted by Palm Island Senior Apartment Homes in Fountain Valley benefiting Alzheimer&rsquo\;s Family Services Center. Four local executive chefs will face off and prepare &ldquo\;Texas-Style BBQ&rdquo\; sliders and sides. Come join the fun and experience the festive foods\, beverages\, vendors\, and many raffle prize opportunities!&nbsp\; Attendees will be able to vote for their favorite dishes from our four featured chefs.&nbsp\;<br />\n&nbsp\;
LOCATION:Palm Island 11300 Warner Ave. Fountain Valley\, CA 92708
UID:e.2030.1948
SEQUENCE:3
DTSTAMP:20260426T041452Z
URL:http://business.fvchamber.com/events/details/2nd-annual-oc-chef-off-08-06-2015-1948
END:VEVENT

END:VCALENDAR
