BEGIN:VCALENDAR
VERSION:2.0
PRODID:-//ChamberMaster//Event Calendar 2.0//EN
METHOD:PUBLISH
X-PUBLISHED-TTL:P3D
REFRESH-INTERVAL:P3D
CALSCALE:GREGORIAN
BEGIN:VEVENT
DTSTART:20151219T170000Z
DTEND:20151219T200000Z
X-MICROSOFT-CDO-ALLDAYEVENT:FALSE
SUMMARY:24 Hour Grand Opening / Ribbon Cutting
DESCRIPTION:24 Hour Grand Opening / Ribbon Cutting
X-ALT-DESC;FMTTYPE=text/html:<span style="font-size:18px\;"><strong>24 Hour Grand Opening / Ribbon Cutting</strong></span>
LOCATION:New Facility 17200 Brookhurst Street Fountain Valley
UID:e.2030.2367
SEQUENCE:3
DTSTAMP:20260426T000435Z
URL:http://business.fvchamber.com/events/details/24-hour-grand-opening-ribbon-cutting-12-19-2015-2367
END:VEVENT

END:VCALENDAR
