BEGIN:VCALENDAR
VERSION:2.0
PRODID:-//ChamberMaster//Event Calendar 2.0//EN
METHOD:PUBLISH
X-PUBLISHED-TTL:P3D
REFRESH-INTERVAL:P3D
CALSCALE:GREGORIAN
BEGIN:VEVENT
DTSTART:20220223T193000Z
DTEND:20220223T203000Z
X-MICROSOFT-CDO-ALLDAYEVENT:FALSE
SUMMARY:2022 Economic And Financial Update
DESCRIPTION:Join us on WEDNESDAY\, FEBRUARY 23rd at 11:30AM to hear Chris Schwarz's latest thoughts on the economy and financial markets.\n\nThis webinar is free for all and brought to you by UCI's Paul Merage School of Business and Center for Investment and Wealth Management as well as the Newport Beach Chamber of Commerce and over 20 other co-sponsoring chambers.
X-ALT-DESC;FMTTYPE=text/html:<h2 style="outline: none\; margin: 16px 0px\; line-height: 1.35\; font-size: 19.488px\; color: rgb(0\, 58\, 94)\; font-family: Lato\; background-color: rgb(255\, 255\, 255)\; text-align: center\;"><span style="color:#000080\;"><span style="font-family:verdana\;"><strong>Join us on WEDNESDAY\, FEBRUARY 23rd at 11:30AM to hear Chris Schwarz&rsquo\;s latest thoughts on the economy and financial markets.</strong></span></span></h2>\n\n<h2 style="outline: none\; margin: 32px 0px 0px\; line-height: 1.35\; font-size: 19.488px\; color: rgb(0\, 58\, 94)\; font-family: Lato\; background-color: rgb(255\, 255\, 255)\; text-align: center\;"><span style="color:#000080\;"><span style="font-family:verdana\;"><strong>This webinar is free for all and brought to you by UCI&rsquo\;s Paul Merage School of Business and Center for Investment and Wealth Management as well as the Newport Beach Chamber of Commerce and over 20 other co-sponsoring chambers.</strong></span></span></h2>\n
LOCATION:Zoom
UID:e.2030.5571
SEQUENCE:3
DTSTAMP:20260421T013122Z
URL:http://business.fvchamber.com/events/details/2022-economic-and-financial-update-5571
END:VEVENT

END:VCALENDAR
