BEGIN:VCALENDAR
VERSION:2.0
PRODID:-//ChamberMaster//Event Calendar 2.0//EN
METHOD:PUBLISH
X-PUBLISHED-TTL:P3D
REFRESH-INTERVAL:P3D
CALSCALE:GREGORIAN
BEGIN:VEVENT
DTSTART;VALUE=DATE:20220225
DTEND;VALUE=DATE:20220226
TRANSP:TRANSPARENT
X-MICROSOFT-CDO-ALLDAYEVENT:TRUE
SUMMARY:2022 Business Directory Publication
DESCRIPTION:Gain Maximum Reach for your Brand - Secure your enhanced listing or ad space in the 2022 Business Directory today!
X-ALT-DESC;FMTTYPE=text/html:Gain Maximum Reach for your Brand - Secure your enhanced listing or ad space in the 2022 Business Directory today!
LOCATION:The 2022 Directory will be available all around Fountain Valley\, including places such as: The Community\, Recreation\, and Senior Centers The FV School District and Chamber of Commerce Local Restaurants and Eateries Grocery & Retail Stores And\, More!
UID:e.2030.5562
SEQUENCE:3
DTSTAMP:20260421T001120Z
URL:http://business.fvchamber.com/events/details/2022-business-directory-publication-5562
END:VEVENT

END:VCALENDAR
