BEGIN:VCALENDAR
VERSION:2.0
PRODID:-//ChamberMaster//Event Calendar 2.0//EN
METHOD:PUBLISH
X-PUBLISHED-TTL:P3D
REFRESH-INTERVAL:P3D
CALSCALE:GREGORIAN
BEGIN:VEVENT
DTSTART:20210325T183000Z
DTEND:20210325T200000Z
X-MICROSOFT-CDO-ALLDAYEVENT:FALSE
SUMMARY:2021 Market & Economic Update
DESCRIPTION:2021 Market and Economic Update with Special Guest Speaker: Christopher G. Schwarz\, Ph.D. Associate Professor of Finance Faculty Director @ UCI.  Presented by local area Chambers of Commerce.
X-ALT-DESC;FMTTYPE=text/html:<span style="color:#000080\;"><strong><span style="font-size:14px\;">2021 Market and Economic Update with Special Guest Speaker: Christopher G. Schwarz\, Ph.D. Associate Professor of Finance Faculty Director @ UCI.&nbsp\; Presented by local area Chambers of Commerce.</span></strong></span>
LOCATION:Online Zoom Meeting Room
UID:e.2030.5346
SEQUENCE:3
DTSTAMP:20260421T212348Z
URL:http://business.fvchamber.com/events/details/2021-market-economic-update-5346
END:VEVENT

END:VCALENDAR
