BEGIN:VCALENDAR
VERSION:2.0
PRODID:-//ChamberMaster//Event Calendar 2.0//EN
METHOD:PUBLISH
X-PUBLISHED-TTL:P3D
REFRESH-INTERVAL:P3D
CALSCALE:GREGORIAN
BEGIN:VEVENT
DTSTART:20201006T180000Z
DTEND:20201006T190000Z
X-MICROSOFT-CDO-ALLDAYEVENT:FALSE
SUMMARY:2020 General Election Ballot Measure Overview
DESCRIPTION:Join the Fountain Valley Chamber of Commerce as we present our "2020 General Election Ballot Measure Overview."\n\nPRESENTED BY: OC TAX Payers Association President/CEO Carolyn Cavecche\n\nGrab Your Ballot! Know Your Vote!
X-ALT-DESC;FMTTYPE=text/html:<div class="kvgmc6g5 cxmmr5t8 oygrvhab hcukyx3x c1et5uql" style="overflow-wrap: break-word\; margin: 0px\; font-family: &quot\;Segoe UI Historic&quot\;\, &quot\;Segoe UI&quot\;\, Helvetica\, Arial\, sans-serif\; color: rgb(5\, 5\, 5)\; font-size: 15px\; background-color: rgb(255\, 255\, 255)\;"><span style="font-size:16px\;"><span style="font-family:verdana\;"><span style="color:#800000\;"><strong>Join the Fountain Valley Chamber of Commerce as we present our &quot\;2020 General Election Ballot Measure Overview.&quot\;</strong></span></span></span></div>\n\n<div class="o9v6fnle cxmmr5t8 oygrvhab hcukyx3x c1et5uql" style="overflow-wrap: break-word\; margin: 0.5em 0px 0px\; font-family: &quot\;Segoe UI Historic&quot\;\, &quot\;Segoe UI&quot\;\, Helvetica\, Arial\, sans-serif\; color: rgb(5\, 5\, 5)\; font-size: 15px\; background-color: rgb(255\, 255\, 255)\;"><span style="font-size:16px\;"><span style="font-family:verdana\;"><span style="color:#800000\;"><strong>PRESENTED BY: OC TAX Payers Association President/CEO Carolyn Cavecche</strong></span></span></span></div>\n\n<div class="o9v6fnle cxmmr5t8 oygrvhab hcukyx3x c1et5uql" style="overflow-wrap: break-word\; margin: 0.5em 0px 0px\; font-family: &quot\;Segoe UI Historic&quot\;\, &quot\;Segoe UI&quot\;\, Helvetica\, Arial\, sans-serif\; color: rgb(5\, 5\, 5)\; font-size: 15px\; background-color: rgb(255\, 255\, 255)\;"><span style="font-size:16px\;"><span style="font-family:verdana\;"><span style="color:#800000\;"><strong>Grab Your Ballot! Know Your Vote!</strong></span></span></span></div>\n
LOCATION:Zoom Link: https://us02web.zoom.us/.../reg.../WN_5heQ_zBiSJm-Ob58UCRsfA
UID:e.2030.5323
SEQUENCE:3
DTSTAMP:20260422T042214Z
URL:http://business.fvchamber.com/events/details/2020-general-election-ballot-measure-overview-5323
END:VEVENT

END:VCALENDAR
