BEGIN:VCALENDAR
VERSION:2.0
PRODID:-//ChamberMaster//Event Calendar 2.0//EN
METHOD:PUBLISH
X-PUBLISHED-TTL:P3D
REFRESH-INTERVAL:P3D
CALSCALE:GREGORIAN
BEGIN:VEVENT
DTSTART:20200110T180000Z
DTEND:20200111T010000Z
X-MICROSOFT-CDO-ALLDAYEVENT:FALSE
SUMMARY:2020 Board of Directors Retreat
DESCRIPTION:2020 Board of Directors Retreat
X-ALT-DESC;FMTTYPE=text/html:<strong><span style="color:#000000\;"><span style="font-family:verdana\;"><span style="font-size:16px\;">2020 Board of Directors Retreat</span></span></span></strong>
LOCATION:Republic Services Office 17121 Nichols Lane\, Huntington Beach\, CA 92647
UID:e.2030.5279
SEQUENCE:3
DTSTAMP:20260422T192557Z
URL:http://business.fvchamber.com/events/details/2020-board-of-directors-retreat-5279
END:VEVENT

END:VCALENDAR
