BEGIN:VCALENDAR
VERSION:2.0
PRODID:-//ChamberMaster//Event Calendar 2.0//EN
METHOD:PUBLISH
X-PUBLISHED-TTL:P3D
REFRESH-INTERVAL:P3D
CALSCALE:GREGORIAN
BEGIN:VEVENT
DTSTART:20190915T000000Z
DTEND:20190915T040000Z
X-MICROSOFT-CDO-ALLDAYEVENT:FALSE
SUMMARY:2019 Moon Festival
DESCRIPTION:In a tradition dating back thousands of years\, Orange County will celebrate the Moon Festival this Saturday\, September 14\, with poetry\, dance\, and arts for children and families. \n\n\n\nOrganized by OC Supervisor Andrew Do\, the Moon Festival is a special celebration where families and friends come together\, eat mooncakes and watch the moon at its largest and brightest point in the year. \n\n\n\nThis year's festival will feature live band entertainment\, youth performances and a parade of colorful lanterns for children\, with the opening ceremony at 6 PM. The free event is hosted in collaboration with CalOptima\, Orange County Parks\, OC Waste & Recycling\, and the Vietnamese Cultural Center.
X-ALT-DESC;FMTTYPE=text/html:<span style="font-family:verdana\;"><strong><span style="color:#000000\;"><span style="font-size: 14px\; white-space: pre-wrap\; background-color: rgb(255\, 255\, 255)\;">In a tradition dating back thousands of years\, Orange County will celebrate the Moon Festival this Saturday\, September 14\, with poetry\, dance\, and arts for children and families. </span><br style="color: rgb(29\, 33\, 41)\; font-family: Helvetica\, Arial\, sans-serif\; font-size: 14px\; white-space: pre-wrap\; background-color: rgb(255\, 255\, 255)\;" />\n<br style="color: rgb(29\, 33\, 41)\; font-family: Helvetica\, Arial\, sans-serif\; font-size: 14px\; white-space: pre-wrap\; background-color: rgb(255\, 255\, 255)\;" />\n<span style="font-size: 14px\; white-space: pre-wrap\; background-color: rgb(255\, 255\, 255)\;">Organized by OC Supervisor Andrew Do\, the Moon Festival is a special celebration where families and friends come together\, eat mooncakes and watch the moon at its largest and brightest point in the year. </span><br style="color: rgb(29\, 33\, 41)\; font-family: Helvetica\, Arial\, sans-serif\; font-size: 14px\; white-space: pre-wrap\; background-color: rgb(255\, 255\, 255)\;" />\n<br style="color: rgb(29\, 33\, 41)\; font-family: Helvetica\, Arial\, sans-serif\; font-size: 14px\; white-space: pre-wrap\; background-color: rgb(255\, 255\, 255)\;" />\n<span style="font-size: 14px\; white-space: pre-wrap\; background-color: rgb(255\, 255\, 255)\;">This year&rsquo\;s festival will feature live band entertainment\, youth performances and a parade of colorful lanterns for children\, with the opening ceremony at 6 PM. The free event is hosted in collaboration with </span></span><a href="https://www.facebook.com/CalOptima/" style="color: rgb(56\, 88\, 152)\; cursor: pointer\; text-decoration-line: none\; font-family: Helvetica\, Arial\, sans-serif\; font-size: 14px\; white-space: pre-wrap\; background-color: rgb(255\, 255\, 255)\;" target="_blank"><span style="color:#000000\;">CalOptima</span></a><span style="color:#000000\;"><span style="font-size: 14px\; white-space: pre-wrap\; background-color: rgb(255\, 255\, 255)\;">\, </span></span><a href="https://www.facebook.com/OrangeCountyParks/" style="color: rgb(56\, 88\, 152)\; cursor: pointer\; text-decoration-line: none\; font-family: Helvetica\, Arial\, sans-serif\; font-size: 14px\; white-space: pre-wrap\; background-color: rgb(255\, 255\, 255)\;" target="_blank"><span style="color:#000000\;">Orange County Parks</span></a><span style="color:#000000\;"><span style="font-size: 14px\; white-space: pre-wrap\; background-color: rgb(255\, 255\, 255)\;">\, </span></span><a href="https://www.facebook.com/OCWaste/" style="color: rgb(56\, 88\, 152)\; cursor: pointer\; text-decoration-line: none\; font-family: Helvetica\, Arial\, sans-serif\; font-size: 14px\; white-space: pre-wrap\; background-color: rgb(255\, 255\, 255)\;" target="_blank"><span style="color:#000000\;">OC Waste &amp\; Recycling</span></a><span style="color:#000000\;"><span style="font-size: 14px\; white-space: pre-wrap\; background-color: rgb(255\, 255\, 255)\;">\, and the Vietnamese Cultural Center. </span></span></strong></span>
LOCATION:Freedom Hall at Mile Square Park 16801 Euclid Street\, Fountain Valley\, CA 92708
UID:e.2030.5144
SEQUENCE:3
DTSTAMP:20260423T023750Z
URL:http://business.fvchamber.com/events/details/2019-moon-festival-5144
END:VEVENT

END:VCALENDAR
