BEGIN:VCALENDAR
VERSION:2.0
PRODID:-//ChamberMaster//Event Calendar 2.0//EN
METHOD:PUBLISH
X-PUBLISHED-TTL:P3D
REFRESH-INTERVAL:P3D
CALSCALE:GREGORIAN
BEGIN:VEVENT
DTSTART;VALUE=DATE:20190929
DTEND;VALUE=DATE:20190930
TRANSP:TRANSPARENT
X-MICROSOFT-CDO-ALLDAYEVENT:TRUE
SUMMARY:2019 Hyundai Hope on Wheels
DESCRIPTION:Register now for the Hyundai Hope on Wheels Run 4 Hope 5K/10K to Support Pediatric Cancer Research. \n\n\n\nSeptember is National Childhood Cancer Awareness Month. It is a time when the pediatric cancer community comes together to support children and families impacted by this disease. The gold ribbon is worn to show support for this disease.\n\n\n\nFor more information contact Michelle Karajelian at: MKarajelian@hmausa.com
X-ALT-DESC;FMTTYPE=text/html:<strong><span style="color:#000080\;"><span style="font-family:verdana\;"><span style="font-size:16px\;">Register now for the Hyundai Hope on Wheels Run 4 Hope 5K/10K to Support Pediatric Cancer Research.&nbsp\;<br />\n<br />\nSeptember is National Childhood Cancer Awareness Month. It is a time when the pediatric cancer community comes together to support children and families impacted by this disease. The gold ribbon is worn to show support for this disease.<br />\n<br />\nFor more information contact Michelle Karajelian at: MKarajelian@hmausa.com</span></span></span></strong>
LOCATION:Fountain Valley Sports Park at Miles Square Park\, Fountain Valley\, CA 92708
UID:e.2030.5140
SEQUENCE:3
DTSTAMP:20260423T011121Z
URL:http://business.fvchamber.com/events/details/2019-hyundai-hope-on-wheels-5140
END:VEVENT

END:VCALENDAR
