BEGIN:VCALENDAR
VERSION:2.0
PRODID:-//ChamberMaster//Event Calendar 2.0//EN
METHOD:PUBLISH
X-PUBLISHED-TTL:P3D
REFRESH-INTERVAL:P3D
CALSCALE:GREGORIAN
BEGIN:VEVENT
DTSTART;VALUE=DATE:20160212
DTEND;VALUE=DATE:20160215
TRANSP:TRANSPARENT
X-MICROSOFT-CDO-ALLDAYEVENT:TRUE
SUMMARY:2016 OC TET Festival
DESCRIPTION:2016 TET Festival\n\nYear of the Monkey
X-ALT-DESC;FMTTYPE=text/html:<div><strong><span style="font-size:16px\;">2016 TET Festival</span></strong></div>\n\n<div><em><strong><span style="font-size:16px\;">Year of the Monkey</span></strong></em></div>\n
LOCATION:Mile Square Park 16801 Euclid St. Fountain Valley
UID:e.2030.2660
SEQUENCE:3
DTSTAMP:20260425T190101Z
URL:http://business.fvchamber.com/events/details/2016-oc-tet-festival-02-12-2016-2660
END:VEVENT

END:VCALENDAR
