BEGIN:VCALENDAR
VERSION:2.0
PRODID:-//ChamberMaster//Event Calendar 2.0//EN
METHOD:PUBLISH
X-PUBLISHED-TTL:P3D
REFRESH-INTERVAL:P3D
CALSCALE:GREGORIAN
BEGIN:VEVENT
DTSTART:20160223T193000Z
DTEND:20160223T213000Z
X-MICROSOFT-CDO-ALLDAYEVENT:FALSE
SUMMARY:2015 Business & Leadership Awards
DESCRIPTION:2015 Business & Leadership Awards
X-ALT-DESC;FMTTYPE=text/html:<span style="font-size:16px\;"><strong>2015 Business &amp\;&nbsp\;Leadership Awards</strong></span>
LOCATION:Mile Square Golf Course Banquet Room 10401 Warner Avenue Fountain Valley
UID:e.2030.2312
SEQUENCE:3
DTSTAMP:20260425T190155Z
URL:http://business.fvchamber.com/events/details/2015-business-leadership-awards-02-23-2016-2312
END:VEVENT

END:VCALENDAR
