BEGIN:VCALENDAR
VERSION:2.0
PRODID:-//ChamberMaster//Event Calendar 2.0//EN
METHOD:PUBLISH
X-PUBLISHED-TTL:P3D
REFRESH-INTERVAL:P3D
CALSCALE:GREGORIAN
BEGIN:VEVENT
DTSTART:20150815T180000Z
DTEND:20150815T210000Z
X-MICROSOFT-CDO-ALLDAYEVENT:FALSE
SUMMARY:1st Annual Chamber Challenge Softball
DESCRIPTION:Join us for the 1st Annual Chamber Challenge Softball\n\n\n\nFountain Valley Chamber of Commerce vs. Vietnamese American Chamber of Commerce\n\n\n\nSATURDAY\, AUGUST 15\, 2015\n\n11:00AM TO 2:00PM\n\n\n\nSoftball Field #1 at the Fountain Valley Recreation Center\n\n16400 Brookhurst Street\, Fountain Valley\n\n\n	Food for Sale from Local Booster Clubs\n	Kids Activities\n	Chamber Member Non-profits Booths\n	Fun-Fun-Fun\n	Prizes & Giveaways
X-ALT-DESC;FMTTYPE=text/html:<span style="font-size:16px\;"><strong><span style="color: rgb(20\, 24\, 35)\; font-family: helvetica\, arial\, sans-serif\; line-height: 20.844446182251px\;">Join us for the 1st Annual Chamber Challenge Softball</span></strong></span><br style="color: rgb(20\, 24\, 35)\; font-family: helvetica\, arial\, sans-serif\; font-size: 14px\; line-height: 20.844446182251px\;" />\n<br style="color: rgb(20\, 24\, 35)\; font-family: helvetica\, arial\, sans-serif\; font-size: 14px\; line-height: 20.844446182251px\;" />\n<strong><span style="color: rgb(20\, 24\, 35)\; font-family: helvetica\, arial\, sans-serif\; font-size: 14px\; line-height: 20.844446182251px\;">Fountain Valley Chamber of Commerce vs. Vietnamese American Chamber of Commerce</span></strong><br style="color: rgb(20\, 24\, 35)\; font-family: helvetica\, arial\, sans-serif\; font-size: 14px\; line-height: 20.844446182251px\;" />\n<br style="color: rgb(20\, 24\, 35)\; font-family: helvetica\, arial\, sans-serif\; font-size: 14px\; line-height: 20.844446182251px\;" />\n<strong><span style="color: rgb(20\, 24\, 35)\; font-family: helvetica\, arial\, sans-serif\; font-size: 14px\; line-height: 20.844446182251px\;">SATURDAY\, AUGUST 15\, 2015</span><br style="color: rgb(20\, 24\, 35)\; font-family: helvetica\, arial\, sans-serif\; font-size: 14px\; line-height: 20.844446182251px\;" />\n<span style="color: rgb(20\, 24\, 35)\; font-family: helvetica\, arial\, sans-serif\; font-size: 14px\; line-height: 20.844446182251px\;">11:00AM TO 2:00PM</span></strong><br style="color: rgb(20\, 24\, 35)\; font-family: helvetica\, arial\, sans-serif\; font-size: 14px\; line-height: 20.844446182251px\;" />\n<br style="color: rgb(20\, 24\, 35)\; font-family: helvetica\, arial\, sans-serif\; font-size: 14px\; line-height: 20.844446182251px\;" />\n<span style="color: rgb(20\, 24\, 35)\; font-family: helvetica\, arial\, sans-serif\; font-size: 14px\; line-height: 20.844446182251px\;">Softball Field #1 at the Fountain Valley Recreation Center</span><br style="color: rgb(20\, 24\, 35)\; font-family: helvetica\, arial\, sans-serif\; font-size: 14px\; line-height: 20.844446182251px\;" />\n<span style="color: rgb(20\, 24\, 35)\; font-family: helvetica\, arial\, sans-serif\; font-size: 14px\; line-height: 20.844446182251px\;">16400 Brookhurst Street\, Fountain Valley</span>\n\n<ul>\n	<li><span style="color: rgb(20\, 24\, 35)\; font-family: helvetica\, arial\, sans-serif\; font-size: 14px\; line-height: 20.844446182251px\;">Food for Sale from Local Booster Clubs</span></li>\n	<li><span style="color: rgb(20\, 24\, 35)\; font-family: helvetica\, arial\, sans-serif\; font-size: 14px\; line-height: 20.844446182251px\;">Kids Activities</span></li>\n	<li><span class="text_exposed_show" style="display: inline\; color: rgb(20\, 24\, 35)\; font-family: helvetica\, arial\, sans-serif\; font-size: 14px\; line-height: 20.844446182251px\;">Chamber Member Non-profits Booths</span></li>\n	<li><span class="text_exposed_show" style="display: inline\; color: rgb(20\, 24\, 35)\; font-family: helvetica\, arial\, sans-serif\; font-size: 14px\; line-height: 20.844446182251px\;">Fun-Fun-Fun</span></li>\n	<li><span class="text_exposed_show" style="display: inline\; color: rgb(20\, 24\, 35)\; font-family: helvetica\, arial\, sans-serif\; font-size: 14px\; line-height: 20.844446182251px\;">Prizes &amp\; Giveaways</span></li>\n</ul>\n
LOCATION:Fountain Valley Recreation Center\, Field 1 16400 Brookhurst Street Fountain Valley\, CA 92708
UID:e.2030.1740
SEQUENCE:3
DTSTAMP:20260426T041528Z
URL:http://business.fvchamber.com/events/details/1st-annual-chamber-challenge-softball-08-15-2015-1740
END:VEVENT

END:VCALENDAR
