BEGIN:VCALENDAR
VERSION:2.0
PRODID:-//ChamberMaster//Event Calendar 2.0//EN
METHOD:PUBLISH
X-PUBLISHED-TTL:P3D
REFRESH-INTERVAL:P3D
CALSCALE:GREGORIAN
BEGIN:VEVENT
DTSTART:20161215T180000Z
DTEND:20161215T220000Z
X-MICROSOFT-CDO-ALLDAYEVENT:FALSE
SUMMARY:12th Annual Woman's Club Holiday Progressive Social
DESCRIPTION:12th Annual Woman's Club Holiday Progressive Social
X-ALT-DESC;FMTTYPE=text/html:<span style="font-size:16px\;"><strong>12th Annual Woman&#39\;s Club Holiday Progressive Social</strong></span>
LOCATION:
UID:e.2030.3842
SEQUENCE:3
DTSTAMP:20260425T034532Z
URL:http://business.fvchamber.com/events/details/12th-annual-woman-s-club-holiday-progressive-social-3842
END:VEVENT

END:VCALENDAR
