BEGIN:VCALENDAR
VERSION:2.0
PRODID:-//ChamberMaster//Event Calendar 2.0//EN
METHOD:PUBLISH
X-PUBLISHED-TTL:P3D
REFRESH-INTERVAL:P3D
CALSCALE:GREGORIAN
BEGIN:VEVENT
DTSTART:20220817T160000Z
DTEND:20220817T170000Z
X-MICROSOFT-CDO-ALLDAYEVENT:FALSE
SUMMARY:10 Ways to Boost Your e-Commerce Sales
DESCRIPTION:E-Commerce checklist for success\n\n                Website optimization\n\n                Tips & resources to reduce cart abandonment & increase sales\n\n                Streamline the checkout process\n\n                Shipping Strategies\n\n                Resources to Track ROI\n\n                Case Studies
X-ALT-DESC;FMTTYPE=text/html:<p style="box-sizing: inherit\; font-size: 18px\; color: rgb(27\, 27\, 27)\; font-family: &quot\;Source Sans Pro Web&quot\;\, &quot\;Helvetica Neue&quot\;\, Helvetica\, Roboto\, Arial\, sans-serif\; background-color: rgb(255\, 255\, 255)\;">&nbsp\; E-Commerce checklist for success</p>\n\n<p style="box-sizing: inherit\; font-size: 18px\; color: rgb(27\, 27\, 27)\; font-family: &quot\;Source Sans Pro Web&quot\;\, &quot\;Helvetica Neue&quot\;\, Helvetica\, Roboto\, Arial\, sans-serif\; background-color: rgb(255\, 255\, 255)\;">&bull\;&nbsp\;&nbsp\;&nbsp\;&nbsp\;&nbsp\;&nbsp\;&nbsp\;&nbsp\;&nbsp\;&nbsp\;&nbsp\;&nbsp\;&nbsp\;&nbsp\;&nbsp\;Website optimization</p>\n\n<p style="box-sizing: inherit\; font-size: 18px\; color: rgb(27\, 27\, 27)\; font-family: &quot\;Source Sans Pro Web&quot\;\, &quot\;Helvetica Neue&quot\;\, Helvetica\, Roboto\, Arial\, sans-serif\; background-color: rgb(255\, 255\, 255)\;">&bull\;&nbsp\;&nbsp\;&nbsp\;&nbsp\;&nbsp\;&nbsp\;&nbsp\;&nbsp\;&nbsp\;&nbsp\;&nbsp\;&nbsp\;&nbsp\;&nbsp\;&nbsp\;Tips &amp\; resources to reduce cart abandonment &amp\; increase sales</p>\n\n<p style="box-sizing: inherit\; font-size: 18px\; color: rgb(27\, 27\, 27)\; font-family: &quot\;Source Sans Pro Web&quot\;\, &quot\;Helvetica Neue&quot\;\, Helvetica\, Roboto\, Arial\, sans-serif\; background-color: rgb(255\, 255\, 255)\;">&bull\;&nbsp\;&nbsp\;&nbsp\;&nbsp\;&nbsp\;&nbsp\;&nbsp\;&nbsp\;&nbsp\;&nbsp\;&nbsp\;&nbsp\;&nbsp\;&nbsp\;&nbsp\;Streamline the checkout process</p>\n\n<p style="box-sizing: inherit\; font-size: 18px\; color: rgb(27\, 27\, 27)\; font-family: &quot\;Source Sans Pro Web&quot\;\, &quot\;Helvetica Neue&quot\;\, Helvetica\, Roboto\, Arial\, sans-serif\; background-color: rgb(255\, 255\, 255)\;">&bull\;&nbsp\;&nbsp\;&nbsp\;&nbsp\;&nbsp\;&nbsp\;&nbsp\;&nbsp\;&nbsp\;&nbsp\;&nbsp\;&nbsp\;&nbsp\;&nbsp\;&nbsp\;Shipping Strategies</p>\n\n<p style="box-sizing: inherit\; font-size: 18px\; color: rgb(27\, 27\, 27)\; font-family: &quot\;Source Sans Pro Web&quot\;\, &quot\;Helvetica Neue&quot\;\, Helvetica\, Roboto\, Arial\, sans-serif\; background-color: rgb(255\, 255\, 255)\;">&bull\;&nbsp\;&nbsp\;&nbsp\;&nbsp\;&nbsp\;&nbsp\;&nbsp\;&nbsp\;&nbsp\;&nbsp\;&nbsp\;&nbsp\;&nbsp\;&nbsp\;&nbsp\;Resources to Track ROI</p>\n\n<p style="box-sizing: inherit\; font-size: 18px\; color: rgb(27\, 27\, 27)\; font-family: &quot\;Source Sans Pro Web&quot\;\, &quot\;Helvetica Neue&quot\;\, Helvetica\, Roboto\, Arial\, sans-serif\; background-color: rgb(255\, 255\, 255)\;">&bull\;&nbsp\;&nbsp\;&nbsp\;&nbsp\;&nbsp\;&nbsp\;&nbsp\;&nbsp\;&nbsp\;&nbsp\;&nbsp\;&nbsp\;&nbsp\;&nbsp\;&nbsp\;Case Studies&nbsp\;</p>\n
LOCATION:Zoom
UID:e.2030.5859
SEQUENCE:3
DTSTAMP:20260420T140502Z
URL:http://business.fvchamber.com/events/details/10-ways-to-boost-your-e-commerce-sales-5859
END:VEVENT

END:VCALENDAR
